BEGIN:VCALENDAR
VERSION:2.0
PRODID:-//Habitat for Humanity of East Jefferson County - ECPv6.15.20//NONSGML v1.0//EN
CALSCALE:GREGORIAN
METHOD:PUBLISH
X-WR-CALNAME:Habitat for Humanity of East Jefferson County
X-ORIGINAL-URL:https://habitatejc.org
X-WR-CALDESC:Events for Habitat for Humanity of East Jefferson County
REFRESH-INTERVAL;VALUE=DURATION:PT1H
X-Robots-Tag:noindex
X-PUBLISHED-TTL:PT1H
BEGIN:VTIMEZONE
TZID:America/Los_Angeles
BEGIN:DAYLIGHT
TZOFFSETFROM:-0800
TZOFFSETTO:-0700
TZNAME:PDT
DTSTART:20220313T100000
END:DAYLIGHT
BEGIN:STANDARD
TZOFFSETFROM:-0700
TZOFFSETTO:-0800
TZNAME:PST
DTSTART:20221106T090000
END:STANDARD
BEGIN:DAYLIGHT
TZOFFSETFROM:-0800
TZOFFSETTO:-0700
TZNAME:PDT
DTSTART:20230312T100000
END:DAYLIGHT
BEGIN:STANDARD
TZOFFSETFROM:-0700
TZOFFSETTO:-0800
TZNAME:PST
DTSTART:20231105T090000
END:STANDARD
BEGIN:DAYLIGHT
TZOFFSETFROM:-0800
TZOFFSETTO:-0700
TZNAME:PDT
DTSTART:20240310T100000
END:DAYLIGHT
BEGIN:STANDARD
TZOFFSETFROM:-0700
TZOFFSETTO:-0800
TZNAME:PST
DTSTART:20241103T090000
END:STANDARD
END:VTIMEZONE
BEGIN:VEVENT
DTSTART;TZID=America/Los_Angeles:20231212T170000
DTEND;TZID=America/Los_Angeles:20231212T180000
DTSTAMP:20260424T185603
CREATED:20231130T220353Z
LAST-MODIFIED:20231130T220849Z
UID:311720-1702400400-1702404000@habitatejc.org
SUMMARY:Mason Street - Upcoming Community Forum
DESCRIPTION:Planning is ramping up for a new neighborhood in Port Hadlock at the site of the old airstrip. You are invited to join us at the Jefferson County Library\, on Tuesday\, December 12\, at 5 pm\, for an update from our planning team and a chance to provide input. An online option will be available; please email info@habitatejc.org to request the link. \n\nExecutive Director of Habitat EJC\, Jamie Maciejewski shared\, “The Mason Street neighborhood will add more than 120 homes in Port Hadlock. A combination of owner-occupied and rental homes will be built\, with green spaces\, paths\, and common areas. All homes will be permanently affordable to people working a wide variety of local jobs with a wide range of incomes.” Stay tuned for more information.
URL:https://habitatejc.org/event/mason-street-upcoming-community-forum/
ATTACH;FMTTYPE=image/png:https://habitatejc.org/wp-content/uploads/2023/11/Mason-Street-1.png
END:VEVENT
BEGIN:VEVENT
DTSTART;TZID=America/Los_Angeles:20231208T140000
DTEND;TZID=America/Los_Angeles:20231208T170000
DTSTAMP:20260424T185603
CREATED:20231120T222339Z
LAST-MODIFIED:20231120T222339Z
UID:311546-1702044000-1702054800@habitatejc.org
SUMMARY:Kim's Home Dedication Ceremony
DESCRIPTION:Please come out to Kim & her familly’s Home Dedication Ceremony and help fill their new house with prayers and well-wishes! The ceremony will be on Friday\, Decenber 8\, 2023 at 2:00 pm and is open to everyone to attend. The Habitat Homeowner Services Committee will be providing refreshments.\n\nFor the location or questions\, please reach out to the Habitat Office at 360.379.2827.
URL:https://habitatejc.org/event/kims-home-dedication-ceremony/
ATTACH;FMTTYPE=image/png:https://habitatejc.org/wp-content/uploads/2023/11/Kims-Ceremony-Invitation.png
END:VEVENT
BEGIN:VEVENT
DTSTART;TZID=America/Los_Angeles:20231117T153000
DTEND;TZID=America/Los_Angeles:20231117T170000
DTSTAMP:20260424T185603
CREATED:20231031T190727Z
LAST-MODIFIED:20231031T190751Z
UID:311524-1700235000-1700240400@habitatejc.org
SUMMARY:Kate and Santiago's Prayers in the wall Ceremony
DESCRIPTION:Please come out to Kate and Santiago’s Prayers in the wall Ceremony and help fill their new house with prayers and well-wishes! The ceremony will be on Friday\, November 17\, 2023 at 3:30 pm and is open to everyone to attend. The Habitat Homeowner Services Committee will be providing refreshments.\n\nFor the location or questions\, please reach out to the Habitat Office at 360.379.2827.
URL:https://habitatejc.org/event/kate-and-santiagos-prayers-in-the-wall-ceremony/
CATEGORIES:Dedication Events
ATTACH;FMTTYPE=application/pdf:https://habitatejc.org/wp-content/uploads/2023/10/Kate-Santiagos-Ceremony-Invitation.pdf
END:VEVENT
BEGIN:VEVENT
DTSTART;TZID=America/Los_Angeles:20230927T173000
DTEND;TZID=America/Los_Angeles:20230927T193000
DTSTAMP:20260424T185603
CREATED:20230922T155418Z
LAST-MODIFIED:20230922T155439Z
UID:311450-1695835800-1695843000@habitatejc.org
SUMMARY:Taylor & Karim's Home Dedication Ceremony
DESCRIPTION:Please come out to Taylor & Karim’s Home Dedication and help fill their new house with prayers and well-wishes! The ceremony will be on Thursday\, September 27th at 5:30pm and is open to everyone to attend. The Habitat Homeowner Services Committee will be providing refreshments.\n\nFor the location or questions\, please reach out to the Habitat Office at 360.379.2827.
URL:https://habitatejc.org/event/taylor-karims-home-dedication-ceremony/
CATEGORIES:Dedication Events
ATTACH;FMTTYPE=image/png:https://habitatejc.org/wp-content/uploads/2023/09/home-dedication.png
END:VEVENT
BEGIN:VEVENT
DTSTART;TZID=America/Los_Angeles:20230926T120000
DTEND;TZID=America/Los_Angeles:20230926T140000
DTSTAMP:20260424T185603
CREATED:20230918T205715Z
LAST-MODIFIED:20230922T155214Z
UID:311432-1695729600-1695736800@habitatejc.org
SUMMARY:Garnett's Home Dedication Ceremony
DESCRIPTION:Please come out to Garnett’s Home Dedication and help fill their new house with prayers and well-wishes! The ceremony will be on Wednesday\, September 26th at noon and is open to everyone to attend. The Habitat Homeowner Services Committee will be providing refreshments.\n\nFor the location or questions\, please reach out to the Habitat Office at 360.379.2827.
URL:https://habitatejc.org/event/garnetts-home-dedication-ceremony/
CATEGORIES:Dedication Events
ATTACH;FMTTYPE=image/png:https://habitatejc.org/wp-content/uploads/2023/09/Home-Dedication-.png
END:VEVENT
BEGIN:VEVENT
DTSTART;VALUE=DATE:20230908
DTEND;VALUE=DATE:20230910
DTSTAMP:20260424T185603
CREATED:20230830T190245Z
LAST-MODIFIED:20230830T215733Z
UID:311282-1694131200-1694303999@habitatejc.org
SUMMARY:Habitat EJC Store: Maritime Art Flash Sale
DESCRIPTION:Recognizing Port Townsend and Jefferson County’s nautical history and current connection to the maritime industry and Salish Sea\, Habitat for Humanity’s store will feature a Port Townsend and maritime-focused art show on Friday and Saturday\, September 8th and 9th. Art featuring Port Townsend\, sailing ships\, ferries\, ocean liners\, and boats\, as well as art highlighting our city and people\, will be on display for sale. In addition\, old maps\, previous years’ Wooden Boat Festival art\, and art featuring maritime animals and environments will be available.We hope you will join us as we pay homage to our maritime environment and trades\, which have been\, and still are\, such an important part of our heritage and culture.See you there\, Matey! 🌊⚓\n\nhttps://www.habitatejc.org/about-the-stores/
URL:https://habitatejc.org/event/habitat-ejc-store-maritime-art-flash-sale/
CATEGORIES:Sales
ATTACH;FMTTYPE=image/jpeg:https://habitatejc.org/wp-content/uploads/2023/08/NWMC-Wooden-Boat-Festival-Posters.jpg
END:VEVENT
BEGIN:VEVENT
DTSTART;TZID=America/Los_Angeles:20230823T150000
DTEND;TZID=America/Los_Angeles:20230823T170000
DTSTAMP:20260424T185603
CREATED:20230810T164314Z
LAST-MODIFIED:20230810T164314Z
UID:310941-1692802800-1692810000@habitatejc.org
SUMMARY:Alicia's Home Dedication Ceremony
DESCRIPTION:Please come out to Alicia’s Home Dedication and help fill her new house with prayers and well-wishes! The ceremony will be on Wednesday\, August 23\, at 3pm and is open to everyone to attend. The Habitat Homeowner Services Committee will be providing refreshments.\n\nFor the location or questions\, please reach out to the Habitat Office at 360.379.2827.
URL:https://habitatejc.org/event/alicias-home-dedication-ceremony/
CATEGORIES:Dedication Events
ATTACH;FMTTYPE=image/png:https://habitatejc.org/wp-content/uploads/2023/08/Alicias-Ceremony-Invitation.png
END:VEVENT
BEGIN:VEVENT
DTSTART;TZID=America/Los_Angeles:20230812T090000
DTEND;TZID=America/Los_Angeles:20230812T153000
DTSTAMP:20260424T185603
CREATED:20230731T171453Z
LAST-MODIFIED:20230731T171453Z
UID:310931-1691830800-1691854200@habitatejc.org
SUMMARY:Community Planting Day
DESCRIPTION:Volunteers are the key to getting families into affordable\, decent homes. We look forward to a fun-filled day of transforming a construction site into a pleasant outside area for the families living at the new Landes Street homes. No experience required!\n\nSignup Link:\nhttps://www.signupgenius.com/go/august23landesplantingday#/
URL:https://habitatejc.org/event/community-planting-day/
ATTACH;FMTTYPE=image/jpeg:https://habitatejc.org/wp-content/uploads/2023/07/Habitat-Landscaping.jpg
END:VEVENT
BEGIN:VEVENT
DTSTART;TZID=America/Los_Angeles:20230809T130000
DTEND;TZID=America/Los_Angeles:20230809T140000
DTSTAMP:20260424T185603
CREATED:20230726T152228Z
LAST-MODIFIED:20230807T154227Z
UID:310856-1691586000-1691589600@habitatejc.org
SUMMARY:Home Blessing Ceremony
DESCRIPTION:Please come out to Kim’s Home Blessing and help fill her new house with prayers and well-wishes! The ceremony will be on Wednesday\, August 9\, at 1pm and is open to everyone to attend. The Habitat Homeowner Services Committee will be providing refreshments.\n\nFor the location or questions\, please reach out to the Habitat Office at 360.379.2827.
URL:https://habitatejc.org/event/home-blessing-ceremony/
ATTACH;FMTTYPE=image/png:https://habitatejc.org/wp-content/uploads/2023/07/Ceremony-Invitation.png
END:VEVENT
BEGIN:VEVENT
DTSTART;VALUE=DATE:20230727
DTEND;VALUE=DATE:20230730
DTSTAMP:20260424T185603
CREATED:20230705T202453Z
LAST-MODIFIED:20230714T151416Z
UID:310663-1690416000-1690675199@habitatejc.org
SUMMARY:Habitat for Humanity of East Jefferson County: Summer 2023 Art Show
DESCRIPTION:Please join us in the Habitat EJC Store for this summer’s Art Show features over 140 works of art as well as many collectibles. In addition to wall art\, we will be displaying the work of contemporary photographers\, antique photography\, wood carvings\, antique books and much more. This collection has something for everyone! Please click here (link to event page) for more event details and to view the catalog. \nClick to view the 2023 Summer Art Show Catalog
URL:https://habitatejc.org/event/habitatejc-store-art-show/
LOCATION:Habitat for Humanity East Jefferson County Store\, 2001 W. Sims Way\, Port Townsend\, WA\, 98368\, United States
CATEGORIES:Show
ATTACH;FMTTYPE=application/pdf:https://habitatejc.org/wp-content/uploads/2023/07/Art-Show-Flyer-1.pdf
END:VEVENT
BEGIN:VEVENT
DTSTART;TZID=America/Los_Angeles:20230712T150000
DTEND;TZID=America/Los_Angeles:20230712T160000
DTSTAMP:20260424T185603
CREATED:20230710T222348Z
LAST-MODIFIED:20230710T222348Z
UID:310708-1689174000-1689177600@habitatejc.org
SUMMARY:New Habitat House Dedication Event
DESCRIPTION:Habitat Homeowner\, Neil will be having a house dedication on Wednesday July 12th from 3-4pm. Please call the office for directions and more info.
URL:https://habitatejc.org/event/new-habitat-house-dedication-event/
CATEGORIES:Dedication Events
END:VEVENT
BEGIN:VEVENT
DTSTART;VALUE=DATE:20230622
DTEND;VALUE=DATE:20230625
DTSTAMP:20260424T185603
CREATED:20230607T220901Z
LAST-MODIFIED:20230609T144310Z
UID:310636-1687392000-1687651199@habitatejc.org
SUMMARY:Tool Sale
DESCRIPTION:Come browse a wide selection of tools pulled from our back stock! \nEvent happens at our store at 2001 W. Sims Way in Port Townsend. June 22nd-24th\, 10:00-5:00pm each day.
URL:https://habitatejc.org/event/tool-sale/
LOCATION:Habitat for Humanity East Jefferson County Store\, 2001 W. Sims Way\, Port Townsend\, WA\, 98368\, United States
CATEGORIES:Sales
ATTACH;FMTTYPE=image/png:https://habitatejc.org/wp-content/uploads/2023/06/Tool-Sale-FtImage.png
END:VEVENT
END:VCALENDAR