BEGIN:VCALENDAR
VERSION:2.0
PRODID:-//Habitat for Humanity of East Jefferson County - ECPv6.15.20//NONSGML v1.0//EN
CALSCALE:GREGORIAN
METHOD:PUBLISH
X-ORIGINAL-URL:https://habitatejc.org
X-WR-CALDESC:Events for Habitat for Humanity of East Jefferson County
REFRESH-INTERVAL;VALUE=DURATION:PT1H
X-Robots-Tag:noindex
X-PUBLISHED-TTL:PT1H
BEGIN:VTIMEZONE
TZID:America/Los_Angeles
BEGIN:DAYLIGHT
TZOFFSETFROM:-0800
TZOFFSETTO:-0700
TZNAME:PDT
DTSTART:20230312T100000
END:DAYLIGHT
BEGIN:STANDARD
TZOFFSETFROM:-0700
TZOFFSETTO:-0800
TZNAME:PST
DTSTART:20231105T090000
END:STANDARD
BEGIN:DAYLIGHT
TZOFFSETFROM:-0800
TZOFFSETTO:-0700
TZNAME:PDT
DTSTART:20240310T100000
END:DAYLIGHT
BEGIN:STANDARD
TZOFFSETFROM:-0700
TZOFFSETTO:-0800
TZNAME:PST
DTSTART:20241103T090000
END:STANDARD
BEGIN:DAYLIGHT
TZOFFSETFROM:-0800
TZOFFSETTO:-0700
TZNAME:PDT
DTSTART:20250309T100000
END:DAYLIGHT
BEGIN:STANDARD
TZOFFSETFROM:-0700
TZOFFSETTO:-0800
TZNAME:PST
DTSTART:20251102T090000
END:STANDARD
END:VTIMEZONE
BEGIN:VEVENT
DTSTART;TZID=America/Los_Angeles:20240118T170000
DTEND;TZID=America/Los_Angeles:20240118T180000
DTSTAMP:20260424T172308
CREATED:20231221T195334Z
LAST-MODIFIED:20240117T014910Z
UID:311876-1705597200-1705600800@habitatejc.org
SUMMARY:Mason Street – Community Meeting
DESCRIPTION:You are invited to join us at the Jefferson County Library\, on Thursday\, January 18\, at 5 pm for a Mason Street community meeting. We hope you will join us for this interactive session as we seek the community’s input on the draft site plan for this new neighborhood \nAn online option will be available; please email info@habitatejc.org to request the link.
URL:https://habitatejc.org/event/mason-street-community-meeting/
CATEGORIES:Meetings
ATTACH;FMTTYPE=image/jpeg:https://habitatejc.org/wp-content/uploads/2023/12/Mason-St-3.jpg
END:VEVENT
END:VCALENDAR