BEGIN:VCALENDAR
VERSION:2.0
PRODID:-//Habitat for Humanity of East Jefferson County - ECPv6.15.20//NONSGML v1.0//EN
CALSCALE:GREGORIAN
METHOD:PUBLISH
X-WR-CALNAME:Habitat for Humanity of East Jefferson County
X-ORIGINAL-URL:https://habitatejc.org
X-WR-CALDESC:Events for Habitat for Humanity of East Jefferson County
REFRESH-INTERVAL;VALUE=DURATION:PT1H
X-Robots-Tag:noindex
X-PUBLISHED-TTL:PT1H
BEGIN:VTIMEZONE
TZID:America/Los_Angeles
BEGIN:DAYLIGHT
TZOFFSETFROM:-0800
TZOFFSETTO:-0700
TZNAME:PDT
DTSTART:20230312T100000
END:DAYLIGHT
BEGIN:STANDARD
TZOFFSETFROM:-0700
TZOFFSETTO:-0800
TZNAME:PST
DTSTART:20231105T090000
END:STANDARD
BEGIN:DAYLIGHT
TZOFFSETFROM:-0800
TZOFFSETTO:-0700
TZNAME:PDT
DTSTART:20240310T100000
END:DAYLIGHT
BEGIN:STANDARD
TZOFFSETFROM:-0700
TZOFFSETTO:-0800
TZNAME:PST
DTSTART:20241103T090000
END:STANDARD
BEGIN:DAYLIGHT
TZOFFSETFROM:-0800
TZOFFSETTO:-0700
TZNAME:PDT
DTSTART:20250309T100000
END:DAYLIGHT
BEGIN:STANDARD
TZOFFSETFROM:-0700
TZOFFSETTO:-0800
TZNAME:PST
DTSTART:20251102T090000
END:STANDARD
END:VTIMEZONE
BEGIN:VEVENT
DTSTART;VALUE=DATE:20240727
DTEND;VALUE=DATE:20240728
DTSTAMP:20260424T201057
CREATED:20240702T170423Z
LAST-MODIFIED:20240702T170423Z
UID:313991-1722038400-1722124799@habitatejc.org
SUMMARY:Summer Pride Build
DESCRIPTION:Our Pride Builds are an opportunity for members of the LGBTQ+ community\, allies\, and organizations to support Habitat’s mission of building homes\, communities\, and hope. Pride Builds strengthen our commitment to inclusivity and community empowerment as we raise awareness of the transformative power of affordable housing in people’s lives.\nWe’re thrilled that Habitat EJC has committed to hosting three Pride Builds this year. We invite everyone to come together\, build homes\, and cultivate hope as we pave the way for a more equitable future. Please join us for the second event on Saturday\, July 27! For more information and to register\, click here.
URL:https://habitatejc.org/event/summer-pride-build/
CATEGORIES:Community Builds
END:VEVENT
BEGIN:VEVENT
DTSTART;TZID=America/Los_Angeles:20240530T090000
DTEND;TZID=America/Los_Angeles:20240601T153000
DTSTAMP:20260424T201057
CREATED:20240408T211449Z
LAST-MODIFIED:20240408T211449Z
UID:313784-1717059600-1717255800@habitatejc.org
SUMMARY:Women Build
DESCRIPTION:In May\, we celebrate the importance of women in affordable housing and their crucial contribution by offering a unique opportunity for individuals of all backgrounds and levels of experience\, to gather and contribute to the creation of affordable housing and tangible change with Women Builds. A fantastic way to put Habitat’s mission of empowering communities\, making a tangible impact\, and changing lives for the better into action! Join us at Habitat EJC from May 30 through June 1; half-days are available. \nGet the details and register here\, we can’t wait to see you there!
URL:https://habitatejc.org/event/women-build/
CATEGORIES:Community Builds
END:VEVENT
BEGIN:VEVENT
DTSTART;TZID=America/Los_Angeles:20240514T183000
DTEND;TZID=America/Los_Angeles:20240514T193000
DTSTAMP:20260424T201057
CREATED:20240501T204141Z
LAST-MODIFIED:20240501T204141Z
UID:313879-1715711400-1715715000@habitatejc.org
SUMMARY:Care-a-Vanner Welcome Potluck
DESCRIPTION:Care-a-vanners are folks that travel in their RVs and vans\, making a difference in the lives of those in need of decent\, affordable housing by participating in building projects in partnership with local Habitats across North America. Habitat EJC will benefit from the skills\, energy\, and enthusiasm of the Care-a-vanners who will be joining us throughout 2024. We invite you to join us in greeting the second group in true Port Townsend style\, with a Welcome Potluck! One of the reasons these folks sign up to build in communities away from home is the chance to meet other wonderful volunteers who share the vision of a world where everyone has a decent place to live and the families that will be living in the houses once they are complete. Please bring any dish of your choosing. \nYou can sign-up here: https://www.signupgenius.com/go/CAVdinner22024
URL:https://habitatejc.org/event/care-a-vanner-welcome-potluck/
LOCATION:Trinity United Methodist Fellowship Hall\, 609 Taylor Street\, Port Townsend\, WA\, 98368\, United States
CATEGORIES:Community Builds
END:VEVENT
BEGIN:VEVENT
DTSTART;TZID=America/Los_Angeles:20240511T090000
DTEND;TZID=America/Los_Angeles:20240511T153000
DTSTAMP:20260424T201057
CREATED:20240408T211221Z
LAST-MODIFIED:20240408T211221Z
UID:313782-1715418000-1715441400@habitatejc.org
SUMMARY:Pride Build
DESCRIPTION:Habitat EJC strengthens our community’s commitment to inclusivity with Pride Builds welcoming all members of the LGBTQ+ community\, allies\, and organizations to support Habitat’s mission of building homes\, communities\, and hope. We’re thrilled to announce that Habitat EJC is gearing up for two Pride Builds this year and we invite everyone to come together\, build homes\, and cultivate hope as we pave the way for a more equitable future. Please join us for the first event on Saturday\, May 11! \nGet the details and register here\, we can’t wait to see you there!
URL:https://habitatejc.org/event/pride-build/
CATEGORIES:Community Builds
END:VEVENT
END:VCALENDAR